BEGIN:VCALENDAR
VERSION:2.0
PRODID:-//My Calendar//http://www.joedolson.com//v3.2.17//EN
METHOD:PUBLISH
CALSCALE:GREGORIAN
X-WR-CALNAME:Pine Valley Recreation Club
X-PUBLISHED-TTL:PT24H
REFRESH-INTERVAL;VALUE=DURATION:PT24H
X-WR-CALDESC:Events from Pine Valley Recreation Club
BEGIN:VEVENT
UID:8-7
LOCATION:
SUMMARY:Championship Swim Meet:  Christiansburg Aquatic Center
DTSTAMP:20190716T000000
ORGANIZER;CN=bepley:MAILTO:
DTSTART;TZID=America/New_York:20190716T000000
DTEND;TZID=America/New_York:20190717T000000
URL;VALUE=URI:http://pinevalleyrecreation.club/my-calendar/
DESCRIPTION:Christiansburg Aquatic Center595 N Franklin StreetChristiansburg, VA 24073Time TBD 
CATEGORIES:General
X-FUNAMBOL-ALLDAY: 1
X-MICROSOFT-CDO-ALLDAYEVENT: TRUE

END:VEVENT
BEGIN:VEVENT
UID:7-6
LOCATION:
SUMMARY:Swim Meet:  Blacksburg Country Club
DTSTAMP:20190709T170000
ORGANIZER;CN=bepley:MAILTO:
DTSTART;TZID=America/New_York:20190709T170000
DTEND;TZID=America/New_York:20190709T210000
URL;VALUE=URI:http://pinevalleyrecreation.club/my-calendar/
DESCRIPTION:Blacksburg Country Club1064 Clubhouse RoadBlacksburg, VA 24060Warmups at 5:00 PMMeet Starts at 6:00 PM 
CATEGORIES:General
END:VEVENT
BEGIN:VEVENT
UID:6-5
LOCATION:
SUMMARY:Swim Meet: Ridgewood Swim Club
DTSTAMP:20190702T000000
ORGANIZER;CN=bepley:MAILTO:
DTSTART;TZID=America/New_York:20190702T000000
DTEND;TZID=America/New_York:20190703T000000
URL;VALUE=URI:http://pinevalleyrecreation.club/my-calendar/
DESCRIPTION:Ridgewood Swim Club200 Ridgewood Road SWChristiansburg, VA 24073Warmups at 5:00 PMMeet Starts at 6:00 PM 
CATEGORIES:General
X-FUNAMBOL-ALLDAY: 1
X-MICROSOFT-CDO-ALLDAYEVENT: TRUE

END:VEVENT
BEGIN:VEVENT
UID:4-4
LOCATION:
SUMMARY:Swim Meet: Giles County
DTSTAMP:20190627T170000
ORGANIZER;CN=bepley:MAILTO:
DTSTART;TZID=America/New_York:20190627T170000
DTEND;TZID=America/New_York:20190627T210000
URL;VALUE=URI:http://pinevalleyrecreation.club/my-calendar/
DESCRIPTION:Giles County1321 Wenomah DrivePearisburg, VA 24134Warmups at 5:00 PMMeet Starts at 6:00 PM 
CATEGORIES:General
END:VEVENT
BEGIN:VEVENT
UID:3-3
LOCATION:
SUMMARY:Swim Meet:  Blacksburg Country Club
DTSTAMP:20190620T170000
ORGANIZER;CN=bepley:MAILTO:
DTSTART;TZID=America/New_York:20190620T170000
DTEND;TZID=America/New_York:20190620T210000
URL;VALUE=URI:http://pinevalleyrecreation.club/my-calendar/
DESCRIPTION:Blacksburg Country Club1064 Clubhouse RoadBlacksburg, VA 24060Warmups at 5:00 PMMeet Starts at 6:00 PM 
CATEGORIES:General
END:VEVENT
BEGIN:VEVENT
UID:2-2
LOCATION:
SUMMARY:Swim Meet: Christiansburg Aquatic Center
DTSTAMP:20190613T170000
ORGANIZER;CN=bepley:MAILTO:
DTSTART;TZID=America/New_York:20190613T170000
DTEND;TZID=America/New_York:20190613T210000
URL;VALUE=URI:http://pinevalleyrecreation.club/my-calendar/
DESCRIPTION:Christiansburg Aquatic CenterAddress:  595 N Franklin StreetChristiansburg, VA 24173Warmups at 5:00 PMMeet Begins at 6:00 PM 
CATEGORIES:General
END:VEVENT
BEGIN:VEVENT
UID:1-1
LOCATION:
SUMMARY:Memorial Day Cookout
DTSTAMP:20190527T130000
ORGANIZER;CN=bepley:MAILTO:
DTSTART;TZID=America/New_York:20190527T130000
DTEND;TZID=America/New_York:20190527T150000
URL;VALUE=URI:http://pinevalleyrecreation.club/my-calendar/
DESCRIPTION: 
CATEGORIES:General
END:VEVENT
END:VCALENDAR